BEGIN:VCALENDAR
VERSION:2.0
PRODID:-//Well-Spring Solutions - ECPv6.15.17.1//NONSGML v1.0//EN
CALSCALE:GREGORIAN
METHOD:PUBLISH
X-WR-CALNAME:Well-Spring Solutions
X-ORIGINAL-URL:https://www.well-springsolutions.org
X-WR-CALDESC:Events for Well-Spring Solutions
REFRESH-INTERVAL;VALUE=DURATION:PT1H
X-Robots-Tag:noindex
X-PUBLISHED-TTL:PT1H
BEGIN:VTIMEZONE
TZID:America/New_York
BEGIN:DAYLIGHT
TZOFFSETFROM:-0500
TZOFFSETTO:-0400
TZNAME:EDT
DTSTART:20240310T070000
END:DAYLIGHT
BEGIN:STANDARD
TZOFFSETFROM:-0400
TZOFFSETTO:-0500
TZNAME:EST
DTSTART:20241103T060000
END:STANDARD
BEGIN:DAYLIGHT
TZOFFSETFROM:-0500
TZOFFSETTO:-0400
TZNAME:EDT
DTSTART:20250309T070000
END:DAYLIGHT
BEGIN:STANDARD
TZOFFSETFROM:-0400
TZOFFSETTO:-0500
TZNAME:EST
DTSTART:20251102T060000
END:STANDARD
BEGIN:DAYLIGHT
TZOFFSETFROM:-0500
TZOFFSETTO:-0400
TZNAME:EDT
DTSTART:20260308T070000
END:DAYLIGHT
BEGIN:STANDARD
TZOFFSETFROM:-0400
TZOFFSETTO:-0500
TZNAME:EST
DTSTART:20261101T060000
END:STANDARD
BEGIN:DAYLIGHT
TZOFFSETFROM:-0500
TZOFFSETTO:-0400
TZNAME:EDT
DTSTART:20270314T070000
END:DAYLIGHT
BEGIN:STANDARD
TZOFFSETFROM:-0400
TZOFFSETTO:-0500
TZNAME:EST
DTSTART:20271107T060000
END:STANDARD
END:VTIMEZONE
BEGIN:VEVENT
DTSTART;TZID=America/New_York:20251124T180000
DTEND;TZID=America/New_York:20251124T193000
DTSTAMP:20260423T085748
CREATED:20251028T151844Z
LAST-MODIFIED:20251028T151846Z
UID:10000562-1764007200-1764012600@www.well-springsolutions.org
SUMMARY:Caregiver Support Group
DESCRIPTION:Please Jodi know if you need respite for your loved one during these support group times as prior arrangements are required. jkolada@well-spring.org OR call 336.545.4245
URL:https://www.well-springsolutions.org/event/caregiver-support-group-6/
LOCATION:The Memory Care Center\,  2701 Henry Street\, Greensboro\, 2701 Henry Street\, Greensboro\, North Carolina\, 27405\, United States
CATEGORIES:Caregiver Education,Caregiver Support Groups
ATTACH;FMTTYPE=image/jpeg:https://www.well-springsolutions.org/wp-content/uploads/2025/03/IMG_8863RT-scaled.jpg
END:VEVENT
BEGIN:VEVENT
DTSTART;TZID=America/New_York:20251206T130000
DTEND;TZID=America/New_York:20251206T150000
DTSTAMP:20260423T085748
CREATED:20251105T170252Z
LAST-MODIFIED:20251206T022033Z
UID:10000563-1765026000-1765033200@www.well-springsolutions.org
SUMMARY:Holiday Jingle & Mingle!
DESCRIPTION:Join us as we partner with Caregiver Connect for a holiday gathering! We will enjoy festive food\, fellowship and fun activities designed for you AND your loved one.
URL:https://www.well-springsolutions.org/event/holiday-jingle-mingle-2/
LOCATION:Well-Spring Solutions Memory Care Center\, 2701 Henry St\, Greensboro\, nc\, 27405
CATEGORIES:Caregiver Education,Caregiver Support Groups
ATTACH;FMTTYPE=image/webp:https://www.well-springsolutions.org/wp-content/uploads/2025/11/blog-image-1920-1080-px-21.webp
END:VEVENT
BEGIN:VEVENT
DTSTART;TZID=America/New_York:20260107T123000
DTEND;TZID=America/New_York:20260107T140000
DTSTAMP:20260423T085748
CREATED:20251216T144049Z
LAST-MODIFIED:20251216T144051Z
UID:10000566-1767789000-1767794400@www.well-springsolutions.org
SUMMARY:Caregiver Support Group
DESCRIPTION:Please Jodi know if you need respite for your loved one during these support group times as prior arrangements are required. jkolada@well-spring.org OR call 336.545.4245
URL:https://www.well-springsolutions.org/event/caregiver-support-group-7/
LOCATION:St. Mary’s Episcopal Church\, Music Academy Bldg. Community Room 2\, 205 W Farriss Ave\, High Point\, North Carolina\, 27262\, United States
CATEGORIES:Caregiver Education,Caregiver Support Groups
ATTACH;FMTTYPE=image/jpeg:https://www.well-springsolutions.org/wp-content/uploads/2025/08/support-8.jpg
END:VEVENT
BEGIN:VEVENT
DTSTART;TZID=America/New_York:20260112T123000
DTEND;TZID=America/New_York:20260112T140000
DTSTAMP:20260423T085748
CREATED:20251216T144439Z
LAST-MODIFIED:20251216T144442Z
UID:10000567-1768221000-1768226400@www.well-springsolutions.org
SUMMARY:Caregiver Support Group
DESCRIPTION:Special Guest Jered Yalung\, PharmD\, Owner & Agency Director of Options for Senior America\, will present information on medication safety and side effects to look out for with new medications and living with dementia  \n\n\n\nPlease Jodi know if you need respite for your loved one during these support group times as prior arrangements are required. jkolada@well-spring.org OR call 336.545.4245
URL:https://www.well-springsolutions.org/event/caregiver-support-group-8/
LOCATION:Temple Emanuel Board Room\, 1129 Jefferson Road\, Greensboro\, North Carolina\, 27410\, United States
CATEGORIES:Caregiver Education,Caregiver Support Groups
ATTACH;FMTTYPE=image/jpeg:https://www.well-springsolutions.org/wp-content/uploads/2025/06/Asset-52-8.jpg
END:VEVENT
BEGIN:VEVENT
DTSTART;TZID=America/New_York:20260113T160000
DTEND;TZID=America/New_York:20260113T170000
DTSTAMP:20260423T085748
CREATED:20251215T201410Z
LAST-MODIFIED:20251217T141556Z
UID:10000564-1768320000-1768323600@www.well-springsolutions.org
SUMMARY:Mindfullness & Stress Relief Techniques for the Family Caregiver
DESCRIPTION:Join us as Sharon Napper\, Nurse\, CDP\, CMDP\, VDT Certified Trainer\, and Outreach & Research Program Manager with Center for Outreach in Alzheimer’s\, Aging and Community Health (COAACH) presents the benefits of mindfulness.  She will also share techniques to reduce stress\, tools for self-compassion as well as staying present in the moment.\n\n\n\n\n\nYou may also contact Jodi at 336-545-4245 or at jkolada@well-spring.org  \n\n\n\nPlease let Jodi know if you need respite for your loved one during this time as arrangements are required.     \n\n\n\n\nRSVP EVENT
URL:https://www.well-springsolutions.org/event/stress-relief/
LOCATION:Well-Spring Solutions Memory Care Center\, 2701 Henry St\, Greensboro\, nc\, 27405
CATEGORIES:Caregiver Education,Caregiver Support Groups
ATTACH;FMTTYPE=image/jpeg:https://www.well-springsolutions.org/wp-content/uploads/2025/12/AdobeStock_379513990.jpeg
END:VEVENT
BEGIN:VEVENT
DTSTART;TZID=America/New_York:20260121T103000
DTEND;TZID=America/New_York:20260121T113000
DTSTAMP:20260423T085748
CREATED:20251215T213835Z
LAST-MODIFIED:20251216T182214Z
UID:10000565-1768991400-1768995000@www.well-springsolutions.org
SUMMARY:Spirituality and Caregiving  
DESCRIPTION:Well-Spring Solutions will partner with Rev. Kristie Miles\, Well-Spring\, A Life Plan Community Chaplain\, for a discussion on the important role spirituality can play in family caregiving\, how to cope with spiritual distress and suggested ways to reconnect.  \n\n\n\nThis event is being held in the Florence Phillips Hall on the Well-Spring campus. \n\n\n\nLet Jodi know if you need respite for your loved one during this time as arrangements are required.   \n\n\n\nPlease register below. You may also contact Jodi at 336-545-4245 or at jkolada@well-spring.org   
URL:https://www.well-springsolutions.org/event/spirituality-and-caregiving/
LOCATION:Well-Spring Life Plan Community\, 4100 Well Spring Drive\, Greensboro\, North Carolina\, 27410
CATEGORIES:Caregiver Education,Caregiver Support Groups
ATTACH;FMTTYPE=image/jpeg:https://www.well-springsolutions.org/wp-content/uploads/2025/12/Chaplain-WS.jpg
END:VEVENT
BEGIN:VEVENT
DTSTART;TZID=America/New_York:20260127T180000
DTEND;TZID=America/New_York:20260127T193000
DTSTAMP:20260423T085748
CREATED:20251216T145024Z
LAST-MODIFIED:20260127T194552Z
UID:10000568-1769536800-1769542200@www.well-springsolutions.org
SUMMARY:*VIRTUAL-Caregiver Support Group
DESCRIPTION:jkolada@well-spring.org   I    336.545.4245
URL:https://www.well-springsolutions.org/event/caregiver-support-group-9/
CATEGORIES:Caregiver Education,Caregiver Support Groups
ATTACH;FMTTYPE=image/jpeg:https://www.well-springsolutions.org/wp-content/uploads/2025/07/IMG_3419-e1765896598698.jpg
END:VEVENT
BEGIN:VEVENT
DTSTART;TZID=America/New_York:20260204T123000
DTEND;TZID=America/New_York:20260204T140000
DTSTAMP:20260423T085748
CREATED:20260128T162049Z
LAST-MODIFIED:20260128T162052Z
UID:10000570-1770208200-1770213600@www.well-springsolutions.org
SUMMARY:Caregiver Support Group
DESCRIPTION:Please Jodi know if you need respite for your loved one during these support group times as prior arrangements are required. jkolada@well-spring.org OR call 336.545.4245
URL:https://www.well-springsolutions.org/event/caregiver-support-group-10/
LOCATION:St. Mary’s Episcopal Church\, Music Academy Bldg. Community Room 2\, 205 W Farriss Ave\, High Point\, North Carolina\, 27262\, United States
CATEGORIES:Caregiver Education,Caregiver Support Groups
ATTACH;FMTTYPE=image/jpeg:https://www.well-springsolutions.org/wp-content/uploads/2025/08/support-8.jpg
END:VEVENT
BEGIN:VEVENT
DTSTART;TZID=America/New_York:20260209T123000
DTEND;TZID=America/New_York:20260209T140000
DTSTAMP:20260423T085748
CREATED:20260128T162252Z
LAST-MODIFIED:20260128T162255Z
UID:10000571-1770640200-1770645600@www.well-springsolutions.org
SUMMARY:Caregiver Support Group
DESCRIPTION:Special Guest Jered Yalung\, PharmD\, Owner & Agency Director of Options for Senior America\, will present information on medication safety and side effects to look out for with new medications and living with dementia  \n\n\n\nPlease Jodi know if you need respite for your loved one during these support group times as prior arrangements are required. jkolada@well-spring.org OR call 336.545.4245
URL:https://www.well-springsolutions.org/event/caregiver-support-group-11/
LOCATION:Temple Emanuel Board Room\, 1129 Jefferson Road\, Greensboro\, North Carolina\, 27410\, United States
CATEGORIES:Caregiver Education,Caregiver Support Groups
ATTACH;FMTTYPE=image/jpeg:https://www.well-springsolutions.org/wp-content/uploads/2025/06/Asset-52-8.jpg
END:VEVENT
BEGIN:VEVENT
DTSTART;TZID=America/New_York:20260218T103000
DTEND;TZID=America/New_York:20260218T113000
DTSTAMP:20260423T085748
CREATED:20260119T172613Z
LAST-MODIFIED:20260119T173541Z
UID:10000569-1771410600-1771414200@www.well-springsolutions.org
SUMMARY:Moving Safely! Balance and Mobility Tips for the Family Caregiver
DESCRIPTION:In partnership with Senior Resources of Guilford’s Family Caregiver Program and Evergreens Lifestyle Center\, we are pleased to offer a workshop with senior fitness expert Kelly Dorrough with Better Balance Senior Fitness. This session will focus on best practices in fall prevention and balance\, offering practical tips to help ensure your loved ones are safe as they move.
URL:https://www.well-springsolutions.org/event/moving-safely-balance-and-mobility-tips-for-the-family-caregiver/
LOCATION:Evergreens Lifestyle Center\, 1401 Benjament Parkway / Lower Level\, Greensboro\, North Carolina\, 27410
CATEGORIES:Caregiver Education
ATTACH;FMTTYPE=image/jpeg:https://www.well-springsolutions.org/wp-content/uploads/2026/01/Screenshot-2026-01-16-at-4.29.38-PM-e1768843784671.jpg
END:VEVENT
BEGIN:VEVENT
DTSTART;TZID=America/New_York:20260226T103000
DTEND;TZID=America/New_York:20260226T120000
DTSTAMP:20260423T085748
CREATED:20260128T201632Z
LAST-MODIFIED:20260130T203751Z
UID:10000573-1772101800-1772107200@www.well-springsolutions.org
SUMMARY:Understanding Anticipatory Grief
DESCRIPTION:Grief doesn’t only occur after a loss. Anticipatory grief is commonly experienced when caring for a loved one with a chronic illness\, like dementia. Join us as Risa Hanau\, LCSW; Clinical & Community Educator with AuthoraCare Collective\, helps caregivers understand\, recognize\, and address anticipatory grief while also being a caregiver. \n\n\n\nRegister here:  \n\n\n\nYou may also contact Jodi at 336-545-4245 or at jkolada@well-spring.org \n\n\n\nPlease let Jodi know if you need respite for your loved one during this time\, as prior arrangements are required. 
URL:https://www.well-springsolutions.org/event/understanding-anticipatory-grief/
LOCATION:The Lusk Center at AuthoraCare Collective\, 2501 Summit Ave\, Greensboro\, 2501 Summit Ave\, Greensboro\, North Carolina
CATEGORIES:Caregiver Education
ATTACH;FMTTYPE=image/jpeg:https://www.well-springsolutions.org/wp-content/uploads/2026/01/sunset-illustration-vector.jpg
END:VEVENT
BEGIN:VEVENT
DTSTART;TZID=America/New_York:20260226T163000
DTEND;TZID=America/New_York:20260226T173000
DTSTAMP:20260423T085748
CREATED:20260129T145138Z
LAST-MODIFIED:20260324T202232Z
UID:10000575-1772123400-1772127000@www.well-springsolutions.org
SUMMARY:Monthly: Together in Solutions          Early-stage Dementia Support Group
DESCRIPTION:Join us in person to receive support and share your experiences with others in a facilitated discussion. This group is for the person living with early-stage dementia and his/her caregiver. The group will briefly meet together\, and then individuals with early­stage dementia and their care partners will meet separately.Pre-screening is required before attending. We ask that the individual with the diagnosis be able and willing to share\, and that they feel comfortable talking about any changes they’re experiencing and how they’re coping. There is no fee\, and light refreshments will be provided. \n\n\n\nYou may also contact Jodi at 336-545-4245 or at jkolada@well-spring.org
URL:https://www.well-springsolutions.org/event/monthly-together-in-solutions-earlystage-dementia-support-group/
LOCATION:The Memory Care Center\,  2701 Henry Street\, Greensboro\, 2701 Henry Street\, Greensboro\, North Carolina\, 27405\, United States
CATEGORIES:Caregiver Education,Caregiver Support Groups
ATTACH;FMTTYPE=image/jpeg:https://www.well-springsolutions.org/wp-content/uploads/2026/01/AdobeStock_96710217_Red-e1774367820866.jpg
END:VEVENT
BEGIN:VEVENT
DTSTART;TZID=America/New_York:20260309T123000
DTEND;TZID=America/New_York:20260309T140000
DTSTAMP:20260423T085748
CREATED:20260224T152950Z
LAST-MODIFIED:20260224T152952Z
UID:10000577-1773059400-1773064800@www.well-springsolutions.org
SUMMARY:Caregiver Support Group
DESCRIPTION:Special Guest Jered Yalung\, PharmD\, Owner & Agency Director of Options for Senior America\, will present information on medication safety and side effects to look out for with new medications and living with dementia  \n\n\n\nPlease Jodi know if you need respite for your loved one during these support group times as prior arrangements are required. jkolada@well-spring.org OR call 336.545.4245
URL:https://www.well-springsolutions.org/event/caregiver-support-group-14/
LOCATION:Temple Emanuel Board Room\, 1129 Jefferson Road\, Greensboro\, North Carolina\, 27410\, United States
CATEGORIES:Caregiver Education,Caregiver Support Groups
ATTACH;FMTTYPE=image/jpeg:https://www.well-springsolutions.org/wp-content/uploads/2025/07/IMG_9851-e1774367743890.jpg
END:VEVENT
BEGIN:VEVENT
DTSTART;TZID=America/New_York:20260326T163000
DTEND;TZID=America/New_York:20260326T173000
DTSTAMP:20260423T085748
CREATED:20260224T153810Z
LAST-MODIFIED:20260324T202337Z
UID:10000579-1774542600-1774546200@www.well-springsolutions.org
SUMMARY:Monthly: Together in Solutions-        Early­-stage Dementia Support Group
DESCRIPTION:Join us in person to receive support and share your experiences with others in a facilitated discussion. This group is for the person living with early-stage dementia and his/her caregiver. The group will briefly meet together\, and then individuals with early­stage dementia and their care partners will meet separately.Pre-screening is required before attending. We ask that the individual with the diagnosis be able and willing to share\, and that they feel comfortable talking about any changes they’re experiencing and how they’re coping. There is no fee\, and light refreshments will be provided. \n\n\n\nYou may also contact Jodi at 336-545-4245 or at jkolada@well-spring.org
URL:https://www.well-springsolutions.org/event/monthly-together-in-solutions-earlystage-dementia-support-group-2/
LOCATION:The Memory Care Center\,  2701 Henry Street\, Greensboro\, 2701 Henry Street\, Greensboro\, North Carolina\, 27405\, United States
CATEGORIES:Caregiver Education,Caregiver Support Groups
ATTACH;FMTTYPE=image/jpeg:https://www.well-springsolutions.org/wp-content/uploads/2026/01/AdobeStock_96710217_Red-e1774367820866.jpg
END:VEVENT
BEGIN:VEVENT
DTSTART;TZID=America/New_York:20260331T180000
DTEND;TZID=America/New_York:20260331T193000
DTSTAMP:20260423T085748
CREATED:20260324T192837Z
LAST-MODIFIED:20260324T194539Z
UID:10000578-1774980000-1774985400@www.well-springsolutions.org
SUMMARY:Caregiver Support Group
DESCRIPTION:Please Jodi know if you need respite for your loved one during these support group times as prior arrangements are required. jkolada@well-spring.org OR call 336.545.4245
URL:https://www.well-springsolutions.org/event/caregiver-support-group-15/
LOCATION:The Memory Care Center\,  2701 Henry Street\, Greensboro\, 2701 Henry Street\, Greensboro\, North Carolina\, 27405\, United States
CATEGORIES:Caregiver Education,Caregiver Support Groups
ATTACH;FMTTYPE=image/jpeg:https://www.well-springsolutions.org/wp-content/uploads/2025/03/IMG_8863RT-scaled.jpg
END:VEVENT
BEGIN:VEVENT
DTSTART;TZID=America/New_York:20260401T123000
DTEND;TZID=America/New_York:20260401T140000
DTSTAMP:20260423T085748
CREATED:20260324T203002Z
LAST-MODIFIED:20260324T204336Z
UID:10000587-1775046600-1775052000@www.well-springsolutions.org
SUMMARY:Caregiver Support Group-
DESCRIPTION:Please Jodi know if you need respite for your loved one during these support group times as prior arrangements are required. jkolada@well-spring.org OR call 336.545.4245
URL:https://www.well-springsolutions.org/event/caregiver-support-group-hp/
LOCATION:St. Mary’s Episcopal Church\, Music Academy Bldg. Community Room 2\, 205 W Farriss Ave\, High Point\, North Carolina\, 27262\, United States
CATEGORIES:Caregiver Education,Caregiver Support Groups
ATTACH;FMTTYPE=image/png:https://www.well-springsolutions.org/wp-content/uploads/2025/04/dementia.adobe-2-1-e1774367628981.png
END:VEVENT
BEGIN:VEVENT
DTSTART;TZID=America/New_York:20260413T123000
DTEND;TZID=America/New_York:20260413T140000
DTSTAMP:20260423T085748
CREATED:20260324T151718Z
LAST-MODIFIED:20260324T194356Z
UID:10000583-1776083400-1776088800@www.well-springsolutions.org
SUMMARY:Caregiver Support Group
DESCRIPTION:Please Jodi know if you need respite for your loved one during these support group times as prior arrangements are required. jkolada@well-spring.org OR call 336.545.4245
URL:https://www.well-springsolutions.org/event/caregiver-support-group-16/
LOCATION:Temple Emanuel Board Room\, 1129 Jefferson Road\, Greensboro\, North Carolina\, 27410\, United States
CATEGORIES:Caregiver Education,Caregiver Support Groups
ATTACH;FMTTYPE=image/jpeg:https://www.well-springsolutions.org/wp-content/uploads/2025/07/IMG_9851-e1774367743890.jpg
END:VEVENT
BEGIN:VEVENT
DTSTART;TZID=America/New_York:20260422T100000
DTEND;TZID=America/New_York:20260422T113000
DTSTAMP:20260423T085748
CREATED:20260310T143216Z
LAST-MODIFIED:20260310T160625Z
UID:10000582-1776852000-1776857400@www.well-springsolutions.org
SUMMARY:National Healthcare Decisions Day: Legal and Medical Decisions to Consider Now 
DESCRIPTION:Join The Elderlaw Firm\, Well-Spring Solutions\, Cone Health\, AuthoraCare Collective\, and HealthTeam Advantage as we celebrate National Healthcare Decisions Day—a nationwide initiative encouraging individuals to document their healthcare and end-of-life wishes and to share them so their loved ones can honor those wishes.    \n\n\n\nThis special event will include presentations from Risa Hanau\, LCSW\, Clinical and Community Educator from AuthoraCare Collective\, Elderlaw Firm Attorney Dennis Toman & Angela Lewis-Myers\, LCSW from Cone Health. All attendees will have an opportunity to receive a free Health Care Power of Attorney after the presentations.
URL:https://www.well-springsolutions.org/event/national-healthcare-decisions-day-legal-and-medical-decisions-to-consider-now/
LOCATION:Carolina Pines Retirement Community\, 2998 Alamance Rd\, Greensboro\, 2998 Alamance Rd\,\, Greensboro\, North Carolina\, United States
CATEGORIES:Caregiver Education
ATTACH;FMTTYPE=image/jpeg:https://www.well-springsolutions.org/wp-content/uploads/2026/03/4-22.NHDD-8.jpg
END:VEVENT
BEGIN:VEVENT
DTSTART;TZID=America/New_York:20260428T180000
DTEND;TZID=America/New_York:20260428T193000
DTSTAMP:20260423T085748
CREATED:20260324T151813Z
LAST-MODIFIED:20260324T151815Z
UID:10000584-1777399200-1777404600@www.well-springsolutions.org
SUMMARY:Caregiver Support Group
DESCRIPTION:Please Jodi know if you need respite for your loved one during these support group times as prior arrangements are required. jkolada@well-spring.org OR call 336.545.4245
URL:https://www.well-springsolutions.org/event/caregiver-support-group-17/
LOCATION:The Memory Care Center\,  2701 Henry Street\, Greensboro\, 2701 Henry Street\, Greensboro\, North Carolina\, 27405\, United States
CATEGORIES:Caregiver Education,Caregiver Support Groups
ATTACH;FMTTYPE=image/jpeg:https://www.well-springsolutions.org/wp-content/uploads/2025/03/IMG_8863RT-scaled.jpg
END:VEVENT
BEGIN:VEVENT
DTSTART;TZID=America/New_York:20260430T163000
DTEND;TZID=America/New_York:20260430T173000
DTSTAMP:20260423T085748
CREATED:20260324T152529Z
LAST-MODIFIED:20260324T152636Z
UID:10000585-1777566600-1777570200@www.well-springsolutions.org
SUMMARY:Monthly: Together in Solutions- Early­stage Dementia Support Group
DESCRIPTION:Join us in person to receive support and share your experiences with others in a facilitated discussion. This group is for the person living with early-stage dementia and his/her caregiver. The group will briefly meet together\, and then individuals with early­stage dementia and their care partners will meet separately.Pre-screening is required before attending. We ask that the individual with the diagnosis be able and willing to share\, and that they feel comfortable talking about any changes they’re experiencing and how they’re coping. There is no fee\, and light refreshments will be provided. \n\n\n\nYou may also contact Jodi at 336-545-4245 or at jkolada@well-spring.org
URL:https://www.well-springsolutions.org/event/monthly-together-in-solutions-earlystage-dementia-support-group-3/
LOCATION:The Memory Care Center\,  2701 Henry Street\, Greensboro\, 2701 Henry Street\, Greensboro\, North Carolina\, 27405\, United States
CATEGORIES:Caregiver Education,Caregiver Support Groups
ATTACH;FMTTYPE=image/jpeg:https://www.well-springsolutions.org/wp-content/uploads/2026/01/AdobeStock_96710217_Red-e1774367820866.jpg
END:VEVENT
BEGIN:VEVENT
DTSTART;TZID=America/New_York:20260528T103000
DTEND;TZID=America/New_York:20260528T133000
DTSTAMP:20260423T085748
CREATED:20260325T152142Z
LAST-MODIFIED:20260325T152715Z
UID:10000588-1779964200-1779975000@www.well-springsolutions.org
SUMMARY:Spring Family Caregiver Retreat 2026!
DESCRIPTION:MAY 28 • 10:30 AM\n\n\n\nAdditional information coming soon!
URL:https://www.well-springsolutions.org/event/spring-family-caregiver-retreat-2026/
CATEGORIES:Caregiver Education,Caregiver Support Groups
END:VEVENT
END:VCALENDAR