BEGIN:VCALENDAR
VERSION:2.0
PRODID:-//Well-Spring Solutions - ECPv6.15.17.1//NONSGML v1.0//EN
CALSCALE:GREGORIAN
METHOD:PUBLISH
X-WR-CALNAME:Well-Spring Solutions
X-ORIGINAL-URL:https://www.well-springsolutions.org
X-WR-CALDESC:Events for Well-Spring Solutions
REFRESH-INTERVAL;VALUE=DURATION:PT1H
X-Robots-Tag:noindex
X-PUBLISHED-TTL:PT1H
BEGIN:VTIMEZONE
TZID:America/New_York
BEGIN:DAYLIGHT
TZOFFSETFROM:-0500
TZOFFSETTO:-0400
TZNAME:EDT
DTSTART:20240310T070000
END:DAYLIGHT
BEGIN:STANDARD
TZOFFSETFROM:-0400
TZOFFSETTO:-0500
TZNAME:EST
DTSTART:20241103T060000
END:STANDARD
BEGIN:DAYLIGHT
TZOFFSETFROM:-0500
TZOFFSETTO:-0400
TZNAME:EDT
DTSTART:20250309T070000
END:DAYLIGHT
BEGIN:STANDARD
TZOFFSETFROM:-0400
TZOFFSETTO:-0500
TZNAME:EST
DTSTART:20251102T060000
END:STANDARD
BEGIN:DAYLIGHT
TZOFFSETFROM:-0500
TZOFFSETTO:-0400
TZNAME:EDT
DTSTART:20260308T070000
END:DAYLIGHT
BEGIN:STANDARD
TZOFFSETFROM:-0400
TZOFFSETTO:-0500
TZNAME:EST
DTSTART:20261101T060000
END:STANDARD
END:VTIMEZONE
BEGIN:VEVENT
DTSTART;TZID=America/New_York:20250702T123000
DTEND;TZID=America/New_York:20250702T140000
DTSTAMP:20260422T071128
CREATED:20250625T180112Z
LAST-MODIFIED:20250625T181615Z
UID:10000530-1751459400-1751464800@www.well-springsolutions.org
SUMMARY:Caregiver Support Group
DESCRIPTION:Please let Jodi know if you need onsite respite for your loved one during these support group times as prior arrangements are required.   jkolada@well-spring.org or 336-545-4245.
URL:https://www.well-springsolutions.org/event/caregiver-support-group-89/
LOCATION:St. Mary’s Episcopal Church\, Music Academy Bldg. Community Room 2\, 205 W Farriss Ave\, High Point\, North Carolina\, 27262\, United States
CATEGORIES:Caregiver Education,Caregiver Support Groups
ATTACH;FMTTYPE=image/png:https://www.well-springsolutions.org/wp-content/uploads/2025/04/High-Point-Music-Academy-1-copy.png
END:VEVENT
BEGIN:VEVENT
DTSTART;TZID=America/New_York:20250714T123000
DTEND;TZID=America/New_York:20250714T140000
DTSTAMP:20260422T071128
CREATED:20250627T194340Z
LAST-MODIFIED:20250627T195406Z
UID:10000535-1752496200-1752501600@www.well-springsolutions.org
SUMMARY:Caregiver Support Group
DESCRIPTION:Please let Jodi know if you need respite for your loved one during these support group times as prior arrangements are required.  
URL:https://www.well-springsolutions.org/event/caregiver-support-group-90/
LOCATION:Temple Emanuel Board Room\, 1129 Jefferson Road\, Greensboro\, North Carolina\, 27410\, United States
CATEGORIES:Caregiver Education,Caregiver Support Groups
ATTACH;FMTTYPE=image/jpeg:https://www.well-springsolutions.org/wp-content/uploads/2025/06/Asset-52-8.jpg
END:VEVENT
BEGIN:VEVENT
DTSTART;TZID=America/New_York:20250714T160000
DTEND;TZID=America/New_York:20250714T170000
DTSTAMP:20260422T071128
CREATED:20250625T175639Z
LAST-MODIFIED:20250625T175641Z
UID:10000529-1752508800-1752512400@www.well-springsolutions.org
SUMMARY:New Advances in Alzheimer’s Treatments
DESCRIPTION:Join us as Ben Yeager\, Program Manager with the Alzheimer’s Association – Western Carolina Chapter provides an overview of how disease modifying treatments slow disease progression. He will discuss potential benefits and side effects for intended candidates and pathways for success. \n\n\n\nPlease let Jodi know if you need onsite respite for your loved one during this time as prior arrangements are required. jkolada@well-spring.org  \n\n\n\nor 336-545-4245.
URL:https://www.well-springsolutions.org/event/new-advances-in-alzheimers-treatments/
LOCATION:The Memory Care Center\,  2701 Henry Street\, Greensboro\, 2701 Henry Street\, Greensboro\, North Carolina\, 27405\, United States
CATEGORIES:Caregiver Education,Caregiver Support Groups
ATTACH;FMTTYPE=image/jpeg:https://www.well-springsolutions.org/wp-content/uploads/2025/06/alz-treatments.jpg
END:VEVENT
BEGIN:VEVENT
DTSTART;TZID=America/New_York:20250729T180000
DTEND;TZID=America/New_York:20250729T193000
DTSTAMP:20260422T071128
CREATED:20250625T184903Z
LAST-MODIFIED:20250625T184906Z
UID:10000532-1753812000-1753817400@www.well-springsolutions.org
SUMMARY:Caregiver Support Group
DESCRIPTION:Please let Jodi know if you need respite for your loved one during these support group times as prior arrangements are required.  
URL:https://www.well-springsolutions.org/event/caregiver-support-group-91/
LOCATION:The Memory Care Center\,  2701 Henry Street\, Greensboro\, 2701 Henry Street\, Greensboro\, North Carolina\, 27405\, United States
CATEGORIES:Caregiver Education,Caregiver Support Groups
ATTACH;FMTTYPE=image/jpeg:https://www.well-springsolutions.org/wp-content/uploads/2025/04/wss-henry-st.jpg
END:VEVENT
END:VCALENDAR